BEGIN:VCALENDAR
VERSION:2.0
CALSCALE:GREGORIAN
BEGIN:VEVENT
SUMMARY:Gym douce
DTSTART;TZID=Europe/Paris:20260326T111500
DTEND;TZID=Europe/Paris:20260326T120000
LOCATION:Studio Inspirafond
DESCRIPTION: Cours adapté aux personnes voulant s&#039;entretenir physiquement mais en douceur avec des exercices adaptés à tous les âges
Exercices doux et sans impact permettant d&#039;améliorer la mobilité , le tonus et la souplesse. 
Travail de la respiration - Renforcement musculaire avec petit matériel - Yoga
Accessible tous niveaux - durée 45 minutes
STATUS:CONFIRMED
SEQUENCE:0
END:VEVENT
END:VCALENDAR