BEGIN:VCALENDAR
VERSION:2.0
CALSCALE:GREGORIAN
BEGIN:VEVENT
SUMMARY:Cardio Boxe (cours réservé aux femmes)
DTSTART;TZID=Europe/Paris:20260513T193000
DTEND;TZID=Europe/Paris:20260513T201000
LOCATION:Studio Inspirafond
DESCRIPTION: Apprenez les mouvements de la boxe poings et pieds à travers des exercices de shadow boxing, des jeux en duo. La boxe permet de travailler coordination, équilibre, réflexes et cardio, c&#039;est très complet !
Lors de ce cours, vous améliorerez aussi votre cardio, votre tonus musculaire grâce à des séries de cardio training
STATUS:CONFIRMED
SEQUENCE:0
END:VEVENT
END:VCALENDAR