BEGIN:VCALENDAR
VERSION:2.0
CALSCALE:GREGORIAN
BEGIN:VEVENT
SUMMARY:Yoga Ashtanga Niveau 2 - Salle Amos Barbot
DTSTART;TZID=Europe/Paris:20260428T121500
DTEND;TZID=Europe/Paris:20260428T133000
LOCATION:Salle Amos Barbot, rue du collège
DESCRIPTION: 
STATUS:CONFIRMED
SEQUENCE:0
END:VEVENT
END:VCALENDAR