BEGIN:VCALENDAR
VERSION:2.0
CALSCALE:GREGORIAN
BEGIN:VEVENT
SUMMARY:Bhalu Yoga met Bert Peeters
DTSTART;TZID=Europe/Brussels:20210805T190000
DTEND;TZID=Europe/Brussels:20210805T200000
LOCATION:Inspirational Yoga
DESCRIPTION: Warm op met enkele houdingen uit de core &amp; back reeks en ga dan verder met de stretching van de bhalu yoga.
STATUS:CONFIRMED
SEQUENCE:0
END:VEVENT
END:VCALENDAR