BEGIN:VCALENDAR
VERSION:2.0
CALSCALE:GREGORIAN
BEGIN:VEVENT
SUMMARY:Pak je rugklachten aan in 6 weken
DTSTART;TZID=Europe/Brussels:20211006T200000
DTEND;TZID=Europe/Brussels:20211006T210000
LOCATION:Inspirational Yoga
DESCRIPTION: Enkel mogelijk in een reeks van 6 weken. Wil je inschrijven met je beurtenkaart mail dan naar info@inspirationalyoga.be.
Er worden je technieken bijgebracht uit yoga, stretch therapie &amp; Roll &amp; Release. Leer de geheimen van de ademhaling om tot relaxatie te komen, ontdek het belang van flexibiliteit en stabiliteit, herprogrammeer je neurologisch systeem met de laatste bevindingen uit de stretch wereld,.. 
Kortom zet de eerste stap naar een gezonde rug, the yoga way!

Over Bert Peeters:
Bert is een fulltime yogaleraar en stretch therapie coach. Hij had zelf een hernia in de onderrug en gebruikte de technieken die in de cursus aan bod komen om hier van verlost te geraken. Zijn lessen zijn een combinatie van prettig gestoord met een gedegen anatomische kennis. Hij eet ook graag appels.
STATUS:CONFIRMED
SEQUENCE:0
END:VEVENT
END:VCALENDAR