BEGIN:VCALENDAR
VERSION:2.0
CALSCALE:GREGORIAN
BEGIN:VEVENT
SUMMARY:Haal de spanning uit je lijf
DTSTART;TZID=Europe/Brussels:20220209T200000
DTEND;TZID=Europe/Brussels:20220209T210000
LOCATION:Inspirational Yoga
DESCRIPTION: Enkel te boeken in een reeks van 6. 
Verminder stress en de effecten van stress op je lichaam met deze reeks boordevol lichaamsgerichte tools om te ont-stressen en ontspannen. Je combineert yoga met ademhalingsoefeningen en ontspanningstechnieken samen met expert Bert Peeters.
STATUS:CONFIRMED
SEQUENCE:0
END:VEVENT
END:VCALENDAR