BEGIN:VCALENDAR
VERSION:2.0
CALSCALE:GREGORIAN
BEGIN:VEVENT
SUMMARY:Reeks Qi Gong by Boris Fornoville
DTSTART;TZID=Europe/Brussels:20220216T184500
DTEND;TZID=Europe/Brussels:20220216T194500
LOCATION:Inspirational Yoga
DESCRIPTION: Inschrijvingen via borisfornoville@hotmail.com
Shi Jin Jing is een qigong reeks met oorsprong in het Shaolin klooster. De bewegingen stimuleren de stroming van qi en bloed doorheen het lichaam en zorgen voor strekking van pezen en ligamenten om deze soepel en sterk te maken. Verder wordt er gewerkt op het flexibel maken van alle gewrichten, het versterken van het metabolisme en de productie van jing en qi.
STATUS:CONFIRMED
SEQUENCE:0
END:VEVENT
END:VCALENDAR