BEGIN:VCALENDAR
VERSION:2.0
CALSCALE:GREGORIAN
BEGIN:VEVENT
SUMMARY:Lange les Restoratieve yoga
DTSTART;TZID=Europe/Brussels:20220116T100000
DTEND;TZID=Europe/Brussels:20220116T120000
LOCATION:Inspirational Yoga
DESCRIPTION: Kom mee ontspannen en je batterijen opladen met deze extra lange les Restoratieve Yoga. Het prefecte me-time momentje. 
2 beurten van je kaart of 1 lange les
STATUS:CONFIRMED
SEQUENCE:0
END:VEVENT
END:VCALENDAR