BEGIN:VCALENDAR
VERSION:2.0
CALSCALE:GREGORIAN
BEGIN:VEVENT
SUMMARY:YOGA
DTSTART;TZID=Europe/Prague:20271013T180000
DTEND;TZID=Europe/Prague:20271013T190000
LOCATION:YMCA
DESCRIPTION: SPORTCENTRUM YMCA, Na Poříčí 12, Praha 1
STATUS:CONFIRMED
SEQUENCE:0
END:VEVENT
END:VCALENDAR