BEGIN:VCALENDAR
VERSION:2.0
CALSCALE:GREGORIAN
BEGIN:VEVENT
SUMMARY:🏡 Ashtanga based Vinyasa yoga with AMELIA. New starters welcome
DTSTART;TZID=Europe/London:20250506T180000
DTEND;TZID=Europe/London:20250506T192000
LOCATION:Iriness Horsham
DESCRIPTION: As Irina is away, Amelia will share her love for yoga with you.
STATUS:CONFIRMED
SEQUENCE:0
END:VEVENT
END:VCALENDAR