BEGIN:VCALENDAR
VERSION:2.0
CALSCALE:GREGORIAN
BEGIN:VEVENT
SUMMARY:🏡  Guided Ashtanga with Isla. New starters welcome
DTSTART;TZID=Europe/London:20250619T180000
DTEND;TZID=Europe/London:20250619T191500
LOCATION:Iriness Horsham
DESCRIPTION: While Irina is offering retreat for our students in Greece, Isla will kindly offer you this class
STATUS:CONFIRMED
SEQUENCE:0
END:VEVENT
END:VCALENDAR