BEGIN:VCALENDAR
VERSION:2.0
CALSCALE:GREGORIAN
BEGIN:VEVENT
SUMMARY:🏡 Guided Ashtanga Vinyasa yoga. New starters welcome
DTSTART;TZID=Europe/London:20250702T180000
DTEND;TZID=Europe/London:20250702T194500
LOCATION:Iriness Horsham
DESCRIPTION: 
STATUS:CONFIRMED
SEQUENCE:0
END:VEVENT
END:VCALENDAR