BEGIN:VCALENDAR
VERSION:2.0
CALSCALE:GREGORIAN
BEGIN:VEVENT
SUMMARY:🏡 Guided Ashtanga Yoga at 6pm w Irina. New starters welcome
DTSTART;TZID=Europe/London:20250804T180000
DTEND;TZID=Europe/London:20250804T193000
LOCATION:Iriness Horsham
DESCRIPTION: Soft though still dynamic class of Ashtanga vinyasa yoga accompanied by pranayama and, as always at Iriness,, guided relaxation. Suitable for beginners and more experienced practitioners.
STATUS:CONFIRMED
SEQUENCE:0
END:VEVENT
END:VCALENDAR