BEGIN:VCALENDAR
VERSION:2.0
CALSCALE:GREGORIAN
BEGIN:VEVENT
SUMMARY:🏡 Monthly Sanskrit Counted Ashtanga Primary &amp; Intermediate Series
DTSTART;TZID=Europe/London:20251011T074500
DTEND;TZID=Europe/London:20251011T094000
LOCATION:Iriness Yoga Horsham
DESCRIPTION: All our students are welcome and Ashtangis of England as well. Not for complete beginners. We usually head to town for brunch together. Everyone welcome, including family and friends.
STATUS:CONFIRMED
SEQUENCE:0
END:VEVENT
END:VCALENDAR