BEGIN:VCALENDAR
VERSION:2.0
CALSCALE:GREGORIAN
BEGIN:VEVENT
SUMMARY:🏡 Guided Ashtanga Vinyasa &amp; Pranayama. Open to all levels
DTSTART;TZID=Europe/London:20251223T180000
DTEND;TZID=Europe/London:20251223T192500
LOCATION:Iriness Horsham
DESCRIPTION: Our last class before Christmas! irina will guide you through Ashtanga’s sequences, pranayama and relaxation practices
STATUS:CONFIRMED
SEQUENCE:0
END:VEVENT
END:VCALENDAR