BEGIN:VCALENDAR
VERSION:2.0
CALSCALE:GREGORIAN
BEGIN:VEVENT
SUMMARY:🏡 Guided Ashtanga &amp; Restorative with Louise. New starters welcome
DTSTART;TZID=Europe/London:20250509T093000
DTEND;TZID=Europe/London:20250509T104500
LOCATION:Iriness Horsham
DESCRIPTION: As Irina is away Louise will share with you Ashtanga based vinyasa and lovely Restorative yoga practices.
STATUS:CONFIRMED
SEQUENCE:0
END:VEVENT
END:VCALENDAR