BEGIN:VCALENDAR
VERSION:2.0
CALSCALE:GREGORIAN
BEGIN:VEVENT
SUMMARY:Combinatie Pilates/Yoga BUITEN
DTSTART;TZID=Europe/Amsterdam:20210610T093000
DTEND;TZID=Europe/Amsterdam:20210610T102500
LOCATION:Boxtelsebaan 10
DESCRIPTION: Buiten
STATUS:CONFIRMED
SEQUENCE:0
END:VEVENT
END:VCALENDAR