BEGIN:VCALENDAR
VERSION:2.0
CALSCALE:GREGORIAN
BEGIN:VEVENT
SUMMARY:Pilates
DTSTART;TZID=Europe/Amsterdam:20210715T200000
DTEND;TZID=Europe/Amsterdam:20210715T205000
LOCATION:Thuis
DESCRIPTION: Online
STATUS:CONFIRMED
SEQUENCE:0
END:VEVENT
END:VCALENDAR