BEGIN:VCALENDAR
VERSION:2.0
CALSCALE:GREGORIAN
BEGIN:VEVENT
SUMMARY:Dynamische yoga BUITEN
DTSTART;TZID=Europe/Amsterdam:20210614T190000
DTEND;TZID=Europe/Amsterdam:20210614T195000
LOCATION:Burg verwielstraat
DESCRIPTION: dynamische yoga
STATUS:CONFIRMED
SEQUENCE:0
END:VEVENT
END:VCALENDAR