BEGIN:VCALENDAR
VERSION:2.0
CALSCALE:GREGORIAN
BEGIN:VEVENT
SUMMARY:Pilates BUITEN
DTSTART;TZID=Europe/Amsterdam:20210616T184500
DTEND;TZID=Europe/Amsterdam:20210616T193000
LOCATION:Burg verwielstraat
DESCRIPTION: Pilates
STATUS:CONFIRMED
SEQUENCE:0
END:VEVENT
END:VCALENDAR