BEGIN:VCALENDAR
VERSION:2.0
CALSCALE:GREGORIAN
BEGIN:VEVENT
SUMMARY:Leren mediteren
DTSTART;TZID=Europe/Amsterdam:20201020T190000
DTEND;TZID=Europe/Amsterdam:20201020T200000
LOCATION:Boxtelsebaan
DESCRIPTION: eenvoudige tools om te mediteren
STATUS:CONFIRMED
SEQUENCE:0
END:VEVENT
END:VCALENDAR