BEGIN:VCALENDAR
VERSION:2.0
CALSCALE:GREGORIAN
BEGIN:VEVENT
SUMMARY:Slow Yoga van Ria
DTSTART;TZID=Europe/Amsterdam:20201211T084500
DTEND;TZID=Europe/Amsterdam:20201211T094500
LOCATION:Boxtelsebaan 10
DESCRIPTION: combinatieles
STATUS:CONFIRMED
SEQUENCE:0
END:VEVENT
END:VCALENDAR