BEGIN:VCALENDAR
VERSION:2.0
CALSCALE:GREGORIAN
BEGIN:VEVENT
SUMMARY:Pilates Booty en Core ONLINE
DTSTART;TZID=Europe/Amsterdam:20201216T183000
DTEND;TZID=Europe/Amsterdam:20201216T191500
LOCATION:Boxtelsebaan 10
DESCRIPTION: Pilates
STATUS:CONFIRMED
SEQUENCE:0
END:VEVENT
END:VCALENDAR