BEGIN:VCALENDAR
VERSION:2.0
CALSCALE:GREGORIAN
BEGIN:VEVENT
SUMMARY:Meditatie les
DTSTART;TZID=Europe/Amsterdam:20201104T190000
DTEND;TZID=Europe/Amsterdam:20201104T195000
LOCATION:de studio
DESCRIPTION: leren mediteren
STATUS:CONFIRMED
SEQUENCE:0
END:VEVENT
END:VCALENDAR