BEGIN:VCALENDAR
VERSION:2.0
CALSCALE:GREGORIAN
BEGIN:VEVENT
SUMMARY:Pilates
DTSTART;TZID=Europe/Amsterdam:20210506T193000
DTEND;TZID=Europe/Amsterdam:20210506T203000
LOCATION:Boxtelsebaan
DESCRIPTION: vanuit huis meedoen
STATUS:CONFIRMED
SEQUENCE:0
END:VEVENT
END:VCALENDAR