BEGIN:VCALENDAR
VERSION:2.0
CALSCALE:GREGORIAN
BEGIN:VEVENT
SUMMARY:Pilates van Jet (vakantie rooster t/m 15 december)
DTSTART;TZID=Europe/Amsterdam:20201209T194500
DTEND;TZID=Europe/Amsterdam:20201209T204500
LOCATION:Boxtelsebaan
DESCRIPTION: Les van Jet
STATUS:CONFIRMED
SEQUENCE:0
END:VEVENT
END:VCALENDAR