BEGIN:VCALENDAR
VERSION:2.0
CALSCALE:GREGORIAN
BEGIN:VEVENT
SUMMARY:Handstand les ( door Acrosports 013)
DTSTART;TZID=Europe/Amsterdam:20201213T110000
DTEND;TZID=Europe/Amsterdam:20201213T123000
LOCATION:Boxtelsebaan
DESCRIPTION: Tijd	  11:00 - 12:30
Docent	  Isabella Van der meulen
Locatie	  de studio
Deelnemers	  5/12
 
HANDSTAND les:
Wil je op je handen kunnen staan zonder gebruik van de muur? En misschien wil je zelfs op je handen kunnen lopen? In deze les gaan we aan de slag met de technieken en kracht die je helpen bij het goed uitvoeren van de handstand en de lichaamsbeheersing die hiervoor nodig is. Hoe meer je met deze technieken oefent, hoe makkelijker het wordt om in de handstand te kunnen blijven staan voor langere tijd of om op je handen weg te lopen!

Na deze les kun je ook thuis aan de slag met alles wat je geleerd hebt zodat jouw handstand steeds beter wordt. En geloof ons: dat is de moeite waard!
STATUS:CONFIRMED
SEQUENCE:0
END:VEVENT
END:VCALENDAR