BEGIN:VCALENDAR
VERSION:2.0
CALSCALE:GREGORIAN
BEGIN:VEVENT
SUMMARY:Algemene les met Alexandra
DTSTART;TZID=Europe/Amsterdam:20201115T100000
DTEND;TZID=Europe/Amsterdam:20201115T113000
LOCATION:bij jou thuis / online
DESCRIPTION: We gebruiken de videoplatform Zoom. Je ontvangt een link 30 minuten voor aanvang van de les per email. Klik op de link om in de les te komen. Je hoeft Zoom niet op voorhand te installeren.

Voel je vrij om het te proberen. Voor de online lessen werken we met donatie. Na de les ontvang je een uitnodiging om te geven wat je wil. Jouw bijdrage is zeer welkom.

Je hebt nodig: een yogamat en graag ook een tot twee stevige dekens (of handdoeken), een stuk vrije muur of kast, een riem en een (keuken)stoel in de buurt

Heb je vragen?
Contacteer mij dan per email alexandra@iyoga-gent.be
of gsm 0497 / 62 16 33
STATUS:CONFIRMED
SEQUENCE:0
END:VEVENT
END:VCALENDAR