BEGIN:VCALENDAR
VERSION:2.0
CALSCALE:GREGORIAN
BEGIN:VEVENT
SUMMARY:Relax &amp; Roll Fascial Release
DTSTART;TZID=America/Los_Angeles:20230510T090000
DTEND;TZID=America/Los_Angeles:20230510T094500
LOCATION:Online
DESCRIPTION: This class is all about self care and recovery.  We will stretch, relax, and massage our muscles using our hands, a tennis ball, or a roller.  When we take care of our selves, we can show up for all of the other areas of our lives.
STATUS:CONFIRMED
SEQUENCE:0
END:VEVENT
END:VCALENDAR