BEGIN:VCALENDAR
VERSION:2.0
CALSCALE:GREGORIAN
BEGIN:VEVENT
SUMMARY:Yoga Nidra - A unique state where you&#039;re neither awake nor asleep
DTSTART;TZID=Europe/London:20250101T204500
DTEND;TZID=Europe/London:20250101T213000
LOCATION:JC Yogi&#039;s Shala
DESCRIPTION: In the chaos of our daily lives, we’re constantly being pulled in a million different directions and stretched so thin, it feels like we might snap at any second. We often find ourselves craving some rest and relaxation, so that we can feel restored and rejuvenated. 
WHAT IS YOGA NIDRA ?

&quot;Yoga nidra is a guided meditation rooted in ancient yogic traditions that follows a systematic relaxation process, putting us in a very relaxed state that is somewhere between being awake and asleep,&quot; 
Yoga nidra is a form of guided meditation that involves elements like a body scan meditation and visualizations.

What’s super cool about it is that researchers who have studied it have found that the brain goes into a unique state where it is asleep, while we’re actually awake and conscious. Apart from being deeply relaxing, being in this state also unlocks several mental, physical, and emotional benefits.

So go on, get comfy, and come with me  on a relaxing yoga nidra journey!
Research shows us that yoga nidra offers several mental, physical, and emotional benefits:

Improves mood
Increase resilience 
Reduce stress level
Boosts memory 
Enhances self awareness
Improves sleep quality 
Lowers blood pressure 


CANCELLATION POLICY :

Any cancellation made within 8 hours will be FULLY charged , this  will not be refundable or transferable .
If for any reason the class is cancelled by the teacher , you will not loose your class credit , this will be automatically adjusted.

Thank you for your understanding .
STATUS:CONFIRMED
SEQUENCE:0
END:VEVENT
END:VCALENDAR