BEGIN:VCALENDAR
VERSION:2.0
CALSCALE:GREGORIAN
BEGIN:VEVENT
SUMMARY:Ganesha 40 Day Asana Practice
DTSTART;TZID=Europe/London:20250724T073000
DTEND;TZID=Europe/London:20250724T084000
LOCATION:Online
DESCRIPTION: This is the initiation yoga Asana Practice , followed by day 1 of the Mantra , Mudra , Pranayama . We will gather to practice the grounding energy of Lord Ganesha .
STATUS:CONFIRMED
SEQUENCE:0
END:VEVENT
END:VCALENDAR