BEGIN:VCALENDAR
VERSION:2.0
CALSCALE:GREGORIAN
BEGIN:VEVENT
SUMMARY:Soma Practice - Restore &amp; Rejuvenate
DTSTART;TZID=Europe/London:20250402T203500
DTEND;TZID=Europe/London:20250402T213500
LOCATION:Shala
DESCRIPTION: This is a deep stretch classes using the props like bolster , strap and bricks to help you deepen the stretches and relax the muscles .
STATUS:CONFIRMED
SEQUENCE:0
END:VEVENT
END:VCALENDAR