BEGIN:VCALENDAR
VERSION:2.0
CALSCALE:GREGORIAN
BEGIN:VEVENT
SUMMARY:Flex &amp; Flow (vor Ort)
DTSTART;TZID=Europe/Zurich:20250927T100000
DTEND;TZID=Europe/Zurich:20250927T110000
LOCATION:OM ni PRESENT Yoga
DESCRIPTION: Die Stunde ist für alle Levels geeignet - auch für Anfänger. Es ist ein Mix aus Stretch, Kraft und Balance.  Matten, Kissen und Blöcke hat es vor Ort. Du darfst gerne auch deine eigene Matte mitbringen. Ein paar Parkplätze sind ebenfalls vorhanden. 
Ich freue mich auf dich!
STATUS:CONFIRMED
SEQUENCE:0
END:VEVENT
END:VCALENDAR