BEGIN:VCALENDAR
VERSION:2.0
CALSCALE:GREGORIAN
BEGIN:VEVENT
SUMMARY:Aqua Yoga
DTSTART;TZID=America/Paramaribo:20210623T161500
DTEND;TZID=America/Paramaribo:20210623T171500
LOCATION:Abraham PH Samsonstraat 14
DESCRIPTION: 
STATUS:CONFIRMED
SEQUENCE:0
END:VEVENT
END:VCALENDAR