BEGIN:VCALENDAR
VERSION:2.0
CALSCALE:GREGORIAN
BEGIN:VEVENT
SUMMARY:Little Lotus 5 lessen serie
DTSTART;TZID=America/Paramaribo:20211008T170000
DTEND;TZID=America/Paramaribo:20211008T173000
LOCATION:Abraham PH Samsonstraat 14
DESCRIPTION: 
STATUS:CONFIRMED
SEQUENCE:0
END:VEVENT
END:VCALENDAR