BEGIN:VCALENDAR
VERSION:2.0
CALSCALE:GREGORIAN
BEGIN:VEVENT
SUMMARY:Aqua Fun nivo 1: Starfish groep 1
DTSTART;TZID=America/Paramaribo:20211113T101500
DTEND;TZID=America/Paramaribo:20211113T104500
LOCATION:Abraham PH Samsonstraat 14
DESCRIPTION: 
STATUS:CONFIRMED
SEQUENCE:0
END:VEVENT
END:VCALENDAR