BEGIN:VCALENDAR
VERSION:2.0
CALSCALE:GREGORIAN
BEGIN:VEVENT
SUMMARY:Mindful Zwanger: een workshop voor koppels
DTSTART;TZID=America/Paramaribo:20201206T091500
DTEND;TZID=America/Paramaribo:20201206T111500
LOCATION:Abraham PH Samsonstraat 14
DESCRIPTION: Mindful zwanger: een informatieve, praktische &amp; gezellige workshop voor zwangere koppels 😍

Ben je 28 weken in verwachting of verder? 🤰🏻Dan is dit een speciale workshop om je partner meer te betrekken bij de zwangerschap 💑. Jullie leren hoe jullie elkaar kunnen ondersteunen voor en tijdens de bevalling. Je partner leert massage technieke o.a. om jou te helpen met ontspannen; jullie beide leren ademhalingstechnieken om tot rust te komen en een band te scheppen met jullie baby 💗
💙 De laatste 30 minuten vindt de sessie in ons zoutwater zwembad plaats. Jullie krijgen enkele oefeningen om samen te doen in t water en eindigen in een heerlijke eindontspanning 💙

Datum: zondag 1 november 2020
Tijd: 09.15u - 11.15u
Prijs: SRD 250,- per koppel

➡️Inschrijvingen via whatsapp📲 08740383.
Wees er snel bij! Er is zeer beperkt plek.
STATUS:CONFIRMED
SEQUENCE:0
END:VEVENT
END:VCALENDAR