BEGIN:VCALENDAR
VERSION:2.0
CALSCALE:GREGORIAN
BEGIN:VEVENT
SUMMARY:Lessenreeks Thaise yoga / Herstellende yoga / Yoga Nidra - jun 2025 (3 lessen) VOLZET
DTSTART;TZID=Europe/Brussels:20250623T200000
DTEND;TZID=Europe/Brussels:20250623T210000
LOCATION:Stationsstraat 31, 1750 Lennik
DESCRIPTION: In deze lessenreeks combineren we elementen uit de Thaise yoga (vooral gericht op losmaken en versoepelen), herstellende yoga en Yoga Nidra (voor diepe ontspanning en loslaten).
STATUS:CONFIRMED
SEQUENCE:0
END:VEVENT
END:VCALENDAR