BEGIN:VCALENDAR
VERSION:2.0
CALSCALE:GREGORIAN
BEGIN:VEVENT
SUMMARY:Yoga Mix
DTSTART;TZID=Europe/Amsterdam:20230719T090000
DTEND;TZID=Europe/Amsterdam:20230719T101500
LOCATION:Joy of You
DESCRIPTION: Een rustige gevarieerde les gevuld met verschillende yogastijlen waarin de focus in de ene les wat meer ligt op bijvoorbeeld rustige yin houdingen en er in de andere les wat meer flow yoga aan bod komt. De les start en eindigt met een rustmoment.  Ook zal Yoga Nidra soms toegevoegd worden voor een diepere ontspanning. Een fijne les voor degene die op zoek is naar een gevarieerde les.

Een les voor beginners en semi-gevorderden.
STATUS:CONFIRMED
SEQUENCE:0
END:VEVENT
END:VCALENDAR