BEGIN:VCALENDAR
VERSION:2.0
CALSCALE:GREGORIAN
BEGIN:VEVENT
SUMMARY:Grand Opening 30 Min Taster - Kundalini Yoga
DTSTART;TZID=Pacific/Auckland:20250524T083000
DTEND;TZID=Pacific/Auckland:20250524T090000
LOCATION:
DESCRIPTION: Suitable for all levels You’ll be guided through a unique kriya — a flowing sequence of postures, breath, and sound designed to create powerful energetic shifts, awaken awareness, and gently align the body from root to crown.
This practice isn’t about perfect poses — it’s about deepening your connection to yourself. Trauma-informed and accessible, these classes welcome both seasoned yogis and curious beginners.
STATUS:CONFIRMED
SEQUENCE:0
END:VEVENT
END:VCALENDAR