BEGIN:VCALENDAR
VERSION:2.0
CALSCALE:GREGORIAN
BEGIN:VEVENT
SUMMARY:Yin and Restore
DTSTART;TZID=Pacific/Auckland:20250720T163000
DTEND;TZID=Pacific/Auckland:20250720T173000
LOCATION:
DESCRIPTION: 
STATUS:CONFIRMED
SEQUENCE:0
END:VEVENT
END:VCALENDAR