BEGIN:VCALENDAR
VERSION:2.0
CALSCALE:GREGORIAN
BEGIN:VEVENT
SUMMARY:Digital Detox - Unplug &amp; Reconnect
DTSTART;TZID=Pacific/Auckland:20250611T120000
DTEND;TZID=Pacific/Auckland:20250611T124500
LOCATION:
DESCRIPTION: Step away from the screen and back into your body. This 45-minute class invites you to pause, unplug, and recharge, without scrolling. Designed for those who often spend breaks on their phones or behind a screen, this session offers a calming reset through breathwork, gentle movement, and nourishing yoga nidra.

Perfect for mid-day clarity, it’s a chance to come home to yourself and experience the power of presence, no notifications needed.
STATUS:CONFIRMED
SEQUENCE:0
END:VEVENT
END:VCALENDAR