BEGIN:VCALENDAR
VERSION:2.0
CALSCALE:GREGORIAN
BEGIN:VEVENT
SUMMARY:Mothers Circle
DTSTART;TZID=Pacific/Auckland:20250808T104500
DTEND;TZID=Pacific/Auckland:20250808T120000
LOCATION:
DESCRIPTION: Join us for a space to rest, share, connect and be supported in your postpartum, alongside other new mums.
Tea, snacks, self-care practices, talk, and community - no pressure, just presence.

Hosted by Keri, of Babymama Postpartum, bringing her passion for nuturing and empowering new mothers.
STATUS:CONFIRMED
SEQUENCE:0
END:VEVENT
END:VCALENDAR