BEGIN:VCALENDAR
VERSION:2.0
CALSCALE:GREGORIAN
BEGIN:VEVENT
SUMMARY:Joy Book Club
DTSTART;TZID=Pacific/Auckland:20250905T190000
DTEND;TZID=Pacific/Auckland:20250905T203000
LOCATION:Postponed To the 19th September
DESCRIPTION: Introducing the Joy Book Club — a Monthly gathering to warm the soul and spark conversation.
Each season, we’ll explore a different theme in health &amp; wellness, alongside light-hearted reads recommended by our community.

$5 monthly Koha includes tea, treats &amp; togetherness
STATUS:CONFIRMED
SEQUENCE:0
END:VEVENT
END:VCALENDAR