BEGIN:VCALENDAR
VERSION:2.0
CALSCALE:GREGORIAN
BEGIN:VEVENT
SUMMARY:Movement for Vitality
DTSTART;TZID=Pacific/Auckland:20251110T061500
DTEND;TZID=Pacific/Auckland:20251110T070000
LOCATION:
DESCRIPTION: 
STATUS:CONFIRMED
SEQUENCE:0
END:VEVENT
END:VCALENDAR