BEGIN:VCALENDAR
VERSION:2.0
CALSCALE:GREGORIAN
BEGIN:VEVENT
SUMMARY:Align &amp; Flow Yoga
DTSTART;TZID=Pacific/Auckland:20250914T100000
DTEND;TZID=Pacific/Auckland:20250914T104000
LOCATION:
DESCRIPTION: Flow with your breath and awaken your energy. Our Vinyasa classes offer a mindful, dynamic sequence of postures that move in harmony with each inhale and exhale. Grounded in presence and guided by joy, this class builds strength, flexibility, and inner awareness.
STATUS:CONFIRMED
SEQUENCE:0
END:VEVENT
END:VCALENDAR