BEGIN:VCALENDAR
VERSION:2.0
CALSCALE:GREGORIAN
BEGIN:VEVENT
SUMMARY:Kids Yoga (Age 5-11yrs) - Term 4
DTSTART;TZID=Pacific/Auckland:20251121T154500
DTEND;TZID=Pacific/Auckland:20251121T164500
LOCATION:
DESCRIPTION: Join us for a playful yoga journey designed to help tamariki move, breathe, and grow — all while building resilience and self-awareness in a friendly, relaxed space.   Parents welcome to stay for a cup of tea
STATUS:CONFIRMED
SEQUENCE:0
END:VEVENT
END:VCALENDAR