BEGIN:VCALENDAR
VERSION:2.0
CALSCALE:GREGORIAN
BEGIN:VEVENT
SUMMARY:FeetUp - Flow
DTSTART;TZID=Europe/Berlin:20250626T193000
DTEND;TZID=Europe/Berlin:20250626T203000
LOCATION:Studio
DESCRIPTION: Tauche ein in die Welt des FeetUp-Yoga! Der 60-minütige Kurs bietet eine aufregende Möglichkeit Yoga zu praktizieren. Verbessere Deine Balance, stärke Deine Körpermitte und erlebe Freude an Umkehrhaltungen - alles in einem - mal dynamischen, mal entspannt!!
RED-FLAG: Schwangerschaft, Bluthochdruck, erhöhter Augeninnendruck, Nacken- oder Rückenverletzungen, ungeklärte gesundheitliche Probleme!
STATUS:CONFIRMED
SEQUENCE:0
END:VEVENT
END:VCALENDAR