BEGIN:VCALENDAR
VERSION:2.0
CALSCALE:GREGORIAN
BEGIN:VEVENT
SUMMARY:AERIAL-Yoga - FLOW   *im HOHEN Tuch!*
DTSTART;TZID=Europe/Berlin:20250623T180000
DTEND;TZID=Europe/Berlin:20250623T190000
LOCATION:Studio
DESCRIPTION: Ein spielerisches Training für Körper und Geist!
Fortlaufender 60-minütiger Aerial-Yoga-Kurs, der auf dem Gebrauch von Tuchschlingen basiert, die an der Decke befestigt sind. Als Teilnehmer wirst Du durch eine Reihe von Posen geführt, die sowohl Kraft als auch Flexibilität verbessern. Die Aerial-Tücher ermöglichen eine Vielzahl von Übungen, die das Gleichgewicht herausfordern und die Tiefenmuskulatur stärken. Ideal für alle, die eine einzigartige Yoga-Erfahrung suchen.
Voraussetzung für die Teilnahme an diesem Kurs ist der sichere Umgang mit dem Aerial-Tuch!
RED-FLAG: Hüft-, Knie- oder Rückenprobleme, Bluthochdruck, erhöhter Augeninnendruck, Schwangerschaft
STATUS:CONFIRMED
SEQUENCE:0
END:VEVENT
END:VCALENDAR