BEGIN:VCALENDAR
VERSION:2.0
CALSCALE:GREGORIAN
BEGIN:VEVENT
SUMMARY:Deep Flow - FeetUp für Tiefenmuskulatur
DTSTART;TZID=Europe/Berlin:20250625T173000
DTEND;TZID=Europe/Berlin:20250625T183000
LOCATION:Studio
DESCRIPTION: Stärkung der Tiefenmuskulatur, Erhöhung der Flexibilität und Mobilität, Verbesserung der Körperhaltung und Balance, Stressabbau und Entspannung.
Herausfordernd, aber für jedes Level geeignet!
R E D - F L A G : Hüft- od. Knieprobleme, akute oder latente Wirbelsäulenschäden, Bluthochdruck, erhöhter Augeninnendruck, Schwangerschaft, nach chirurgischen Eingriffen.
Kläre eine Teilnahme bitte vorab mit Deinem behandelnden Arzt ab!
Mit der Buchung dieses Kurses bestätigst Du, die Kontraindikationen zur Kenntnis genommen und keine gesundheitlichen Einschränkungen zu haben, die zum Ausschluss der Teilnahme führen.
STATUS:CONFIRMED
SEQUENCE:0
END:VEVENT
END:VCALENDAR